1.8411290781
0.0000000000
0.0000000000
-1.8411290781
525966.4529937018
8420681.1566947699
