1.8381081129
0.0000000000
0.0000000000
-1.8381081129
524817.2769916726
8420173.1450722441
