1.8123650205
0.0000000000
0.0000000000
-1.8123650205
523767.7329819556
8419645.3445223533
