1.9219245984
0.0000000000
0.0000000000
-1.9219245984
522381.0750404731
8419413.4220788945
