1.7384793440
0.0000000000
0.0000000000
-1.7384793440
521770.2417603381
8418269.0681814533
