1.7602858951
0.0000000000
0.0000000000
-1.7602858951
520603.6678490131
8417960.2363674473
