1.7957409452
0.0000000000
0.0000000000
-1.7957409452
519530.8273581654
8417344.2735445537
