1.7897876109
0.0000000000
0.0000000000
-1.7897876109
518463.4048091119
8416805.8296729196
