1.7829402056
0.0000000000
0.0000000000
-1.7829402056
515137.8142530629
8417914.7441229783
