1.7853536084
0.0000000000
0.0000000000
-1.7853536084
516249.6426235497
8418430.4051590934
