1.7682246473
0.0000000000
0.0000000000
-1.7682246473
517413.8504405886
8418860.1831710003
