1.8362305634
0.0000000000
0.0000000000
-1.8362305634
518351.7821941754
8419520.2091139611
