1.7870492708
0.0000000000
0.0000000000
-1.7870492708
519479.0065130857
8419997.7248086594
