1.7304835708
0.0000000000
0.0000000000
-1.7304835708
520787.5021131682
8420326.5240438748
