1.6710713070
0.0000000000
0.0000000000
-1.6710713070
522139.1550741366
8420749.0188820586
