1.8045869907
0.0000000000
0.0000000000
-1.8045869907
522958.2520268916
8421642.9601696637
