1.7975061450
0.0000000000
0.0000000000
-1.7975061450
524049.8059316385
8422223.3737990540
