1.7328449149
0.0000000000
0.0000000000
-1.7328449149
525117.9120286118
8422639.5838821307
