1.6610328224
0.0000000000
0.0000000000
-1.6610328224
527395.7685195247
8423542.1928280722
