1.7126360927
0.0000000000
0.0000000000
-1.7126360927
528569.4396090079
8424123.9786027446
