1.7889220525
0.0000000000
0.0000000000
-1.7889220525
529502.3009382496
8424909.8377534878
