1.7809872356
0.0000000000
0.0000000000
-1.7809872356
530648.4785271504
8425493.5621245336
