1.7670843651
0.0000000000
0.0000000000
-1.7670843651
531665.0684367905
8425862.7934347745
