1.8007559342
0.0000000000
0.0000000000
-1.8007559342
532756.6180855448
8426718.8280848283
