1.8707429882
0.0000000000
0.0000000000
-1.8707429882
533796.5878168411
8427254.1388048194
