1.7952819346
0.0000000000
0.0000000000
-1.7952819346
535102.2836568926
8427613.1329834703
