1.7704329210
0.0000000000
0.0000000000
-1.7704329210
536190.8445080584
8428308.9676934108
