1.7619930305
0.0000000000
0.0000000000
-1.7619930305
537346.1686526904
8428665.3082849104
