1.7799376639
0.0000000000
0.0000000000
-1.7799376639
538486.3208824373
8429170.4633292947
