1.8220031620
0.0000000000
0.0000000000
-1.8220031620
533964.3828895880
8429939.5424614158
