1.7600741591
0.0000000000
0.0000000000
-1.7600741591
532968.5006131326
8429361.1682470627
