1.8283309064
0.0000000000
0.0000000000
-1.8283309064
531669.4751047703
8428967.1233828031
