1.8526704628
0.0000000000
0.0000000000
-1.8526704628
530447.1461804491
8428476.0478430931
