1.9091894058
0.0000000000
0.0000000000
-1.9091894058
529299.9948883316
8427958.4069805909
