1.8782955953
0.0000000000
0.0000000000
-1.8782955953
528182.5223783375
8427334.7759997267
