1.8437879980
0.0000000000
0.0000000000
-1.8437879980
527072.3622801331
8426805.0062633492
