1.8428902049
0.0000000000
0.0000000000
-1.8428902049
525994.4346510331
8426185.0394863952
