1.8536584241
0.0000000000
0.0000000000
-1.8536584241
524746.7818634270
8425721.7970764711
