1.8066369274
0.0000000000
0.0000000000
-1.8066369274
523734.0354237278
8425105.7500167210
