1.8290323623
0.0000000000
0.0000000000
-1.8290323623
522627.6648473619
8424589.4110917281
