1.8195460565
0.0000000000
0.0000000000
-1.8195460565
521469.2927875108
8424075.6736384798
