1.8296199446
0.0000000000
0.0000000000
-1.8296199446
520420.1313875187
8423470.5464863107
