1.8357962837
0.0000000000
0.0000000000
-1.8357962837
519348.0218134936
8423040.4873293880
