1.8198270483
0.0000000000
0.0000000000
-1.8198270483
518312.8692032445
8422583.4985584281
