1.8042813491
0.0000000000
0.0000000000
-1.8042813491
517347.3086683609
8421881.2388446908
