1.8521381192
0.0000000000
0.0000000000
-1.8521381192
516151.7669236906
8421520.5003678445
