1.8472858354
0.0000000000
0.0000000000
-1.8472858354
515077.9856112253
8421030.8569988571
