1.8316754366
0.0000000000
0.0000000000
-1.8316754366
514019.2181506519
8420480.1195993964
