1.8598104911
0.0000000000
0.0000000000
-1.8598104911
513177.2679261899
8419791.0670617092
