0.3
0
0
-0.3
375000.15
4244999.85
